BEGIN:VCALENDAR
VERSION:2.0
PRODID:-//CIREF - ECPv6.15.17.1//NONSGML v1.0//EN
CALSCALE:GREGORIAN
METHOD:PUBLISH
X-WR-CALNAME:CIREF
X-ORIGINAL-URL:https://cirefluvial.com
X-WR-CALDESC:Eventos para CIREF
REFRESH-INTERVAL;VALUE=DURATION:PT1H
X-Robots-Tag:noindex
X-PUBLISHED-TTL:PT1H
BEGIN:VTIMEZONE
TZID:Europe/Madrid
BEGIN:DAYLIGHT
TZOFFSETFROM:+0100
TZOFFSETTO:+0200
TZNAME:CEST
DTSTART:20250330T010000
END:DAYLIGHT
BEGIN:STANDARD
TZOFFSETFROM:+0200
TZOFFSETTO:+0100
TZNAME:CET
DTSTART:20251026T010000
END:STANDARD
BEGIN:DAYLIGHT
TZOFFSETFROM:+0100
TZOFFSETTO:+0200
TZNAME:CEST
DTSTART:20260329T010000
END:DAYLIGHT
BEGIN:STANDARD
TZOFFSETFROM:+0200
TZOFFSETTO:+0100
TZNAME:CET
DTSTART:20261025T010000
END:STANDARD
BEGIN:DAYLIGHT
TZOFFSETFROM:+0100
TZOFFSETTO:+0200
TZNAME:CEST
DTSTART:20270328T010000
END:DAYLIGHT
BEGIN:STANDARD
TZOFFSETFROM:+0200
TZOFFSETTO:+0100
TZNAME:CET
DTSTART:20271031T010000
END:STANDARD
END:VTIMEZONE
BEGIN:VEVENT
DTSTART;TZID=Europe/Madrid:20260516T000000
DTEND;TZID=Europe/Madrid:20260516T235959
DTSTAMP:20260422T120748
CREATED:20260315T180931Z
LAST-MODIFIED:20260315T181037Z
UID:7976-1778889600-1778975999@cirefluvial.com
SUMMARY:WalkingRivers Day 2026
DESCRIPTION:Lugar: Ríos de todo el mundo Organizan: CIREF\, Wetlands International Europe y el Observatorio del Agua de la Fundación Botín \n\n\n\n\n\n\n\nWalkingRivers vuelve el 16 de mayo de 2026 con una nueva edición de esta iniciativa global que invita a caminar a lo largo de nuestros ríos para reconectar con ellos de una forma sencilla y colectiva. \n\n\n\nDesde su lanzamiento hace dos años\, WalkingRivers ha reunido a más de 7.000 personas en más de 200 rutas en 30 países\, creando una comunidad internacional comprometida con el cuidado de los ríos. \n\n\n\nEl tema de esta edición es “Los sonidos del río”\, una invitación a caminar y escuchar. Las personas participantes pueden interpretar este concepto de muchas maneras: escuchar el sonido del agua al fluir\, grabar el paisaje sonoro del río\, crear listas de música para la caminata\, recitar poesía durante el recorrido o reflexionar sobre los retos ambientales que afectan a los ríos. \n\n\n\nLa iniciativa anima a personas\, colectivos y organizaciones a organizar caminatas a lo largo de sus ríos locales: desde universidades y asociaciones vecinales hasta familias o clubes de senderismo. Para convertirse en River Leader solo se necesita un río y la voluntad de compartir por qué merece ser cuidado. \n\n\n\nWalkingRivers busca poner en valor especialmente los ríos urbanos y periurbanos\, aquellos que atraviesan nuestras ciudades y pueblos y que a menudo pasan desapercibidos en la vida cotidiana. \n\n\n\nCómo participar\n\n\n\nCualquier persona puede organizar una caminata el 16 de mayo de 2026 y registrarla en la web de WalkingRivers.
URL:https://cirefluvial.com/event/walkingrivers-day-2026/
ATTACH;FMTTYPE=image/jpeg:https://cirefluvial.com/wp-content/uploads/2026/03/FB_save-the-date_WR_2026-01-01-03-pichi.jpg
END:VEVENT
BEGIN:VEVENT
DTSTART;TZID=Europe/Madrid:20260610T000000
DTEND;TZID=Europe/Madrid:20260612T235959
DTSTAMP:20260422T120749
CREATED:20250902T081624Z
LAST-MODIFIED:20251107T134024Z
UID:7416-1781049600-1781308799@cirefluvial.com
SUMMARY:RESTAURARÍOS 2026: Congreso Ibérico de Restauración Fluvial
DESCRIPTION:En 2026\, RESTAURARÍOS reúne en Soria a la comunidad ibérica de restauración fluvial. Miramos a 2030 con el objetivo de compartir aprendizajes\, plantear soluciones y reforzar la conectividad y resiliencia de nuestros ríos. \n\n\n\nÁreas temáticas \n\n\n\nRestauración del espacio fluvial\, caudal y carga sólida\n\n\n\nRestauración de la estructura y función de los ecosistemas fluviales\n\n\n\nExperiencias de restauración fluvial mediante soluciones basadas en la naturaleza\n\n\n\nRetos de la restauración fluvial en entornos urbanos\n\n\n\nEstrategias de gobernanza para la restauración fluvial\n\n\n\nEstrategias de educación ambiental\, participación y comunicación para la restauración fluvial\n\n\n\nEnvío de resúmenes abierto hasta el 30 de noviembre de 2025. \n\n\n\nOrganizan y colaboranCIREF\, Confederación Hidrográfica del Duero\, Wetlands International Europe\, MITECO\, con la colaboración del Ayuntamiento de Soria.
URL:https://cirefluvial.com/event/restaurarios-2026-congreso-iberico-de-restauracion-fluvial/
ATTACH;FMTTYPE=image/jpeg:https://cirefluvial.com/wp-content/uploads/2025/08/VERSION-CARTEL-01.jpeg
END:VEVENT
END:VCALENDAR